BEGIN:VCALENDAR
VERSION:2.0
PRODID:spatie/icalendar-generator
DESCRIPTION:Events from 1338 (Seaham) Squadron ATC
X-WR-CALDESC:Events from 1338 (Seaham) Squadron ATC
REFRESH-INTERVAL;VALUE=DURATION:PT1440M
X-PUBLISHED-TTL:PT1440M
BEGIN:VTIMEZONE
TZID:Etc/GMT+0
BEGIN:STANDARD
DTSTART:20210314T190000Z
TZOFFSETFROM:+0000
TZOFFSETTO:+0000
END:STANDARD
END:VTIMEZONE
BEGIN:VTIMEZONE
TZID:UTC
BEGIN:STANDARD
DTSTART:20250723T134647Z
TZOFFSETFROM:+0000
TZOFFSETTO:+0000
END:STANDARD
END:VTIMEZONE
BEGIN:VEVENT
UID:1460-3
DTSTAMP:20260419T134647Z
SUMMARY:Parade Night
LOCATION:
ORGANIZER;CN=Archive User:MAILTO:1338@rafac.mod.gov.uk
RRULE:FREQ=WEEKLY;COUNT=365
DTSTART;TZID=Etc/GMT+0:20211209T190000
DTEND;TZID=Etc/GMT+0:20211209T213000
X-ALT-DESC;FMTTYPE=TEXT/HTML:
CATEGORIES:Parade Night
URL;VALUE=URI:https://1338sqn.org/mc-events/parade-night/?mc_id=1460
METHOD:PUBLISH
END:VEVENT
END:VCALENDAR