BEGIN:VCALENDAR
VERSION:2.0
PRODID:spatie/icalendar-generator
DESCRIPTION:Events from 1338 (Seaham) Squadron ATC
X-WR-CALDESC:Events from 1338 (Seaham) Squadron ATC
REFRESH-INTERVAL;VALUE=DURATION:PT1440M
X-PUBLISHED-TTL:PT1440M
BEGIN:VTIMEZONE
TZID:Etc/GMT+0
BEGIN:STANDARD
DTSTART:20210430T190000Z
TZOFFSETFROM:+0000
TZOFFSETTO:+0000
END:STANDARD
END:VTIMEZONE
BEGIN:VTIMEZONE
TZID:UTC
BEGIN:STANDARD
DTSTART:20250726T154052Z
TZOFFSETFROM:+0000
TZOFFSETTO:+0000
END:STANDARD
END:VTIMEZONE
BEGIN:VEVENT
UID:1833-4
DTSTAMP:20260422T154052Z
SUMMARY:Parade Night
LOCATION:
ORGANIZER;CN=Archive User:MAILTO:1338@rafac.mod.gov.uk
RRULE:FREQ=WEEKLY;COUNT=365
DTSTART;TZID=Etc/GMT+0:20220125T190000
DTEND;TZID=Etc/GMT+0:20220125T213000
X-ALT-DESC;FMTTYPE=TEXT/HTML:
CATEGORIES:Parade Night
URL;VALUE=URI:https://1338sqn.org/mc-events/parade-night-2/?mc_id=1833
METHOD:PUBLISH
END:VEVENT
END:VCALENDAR